BEGIN:VCALENDAR
VERSION:2.0
PRODID:icalendar-ruby
CALSCALE:GREGORIAN
METHOD:PUBLISH
BEGIN:VEVENT
DTSTAMP:20260422T024005Z
UID:8-1724271@gmsbc.net
DTSTART:20241012T160000Z
DTEND:20241012T170000Z
CLASS:PUBLIC
CREATED:20260421T170043
DESCRIPTION:Sunday School Ministry Meeting held the 4th Saturday of every m
 onth via Zoom.
LAST-MODIFIED:20260421T170043
LOCATION:
SUMMARY:Sunday School Ministry Meeting
URL;VALUE=URI:https://www.gmsbc.net/events/sunday-school-ministry-meeting/2
 024-10-12
ATTACH;FILENAME=sunday school.jpg;FMTTYPE=image/jpeg:https://dq5pwpg1q8ru0.
 cloudfront.net/2020/09/22/13/37/49/32f7421c-fefe-49e4-ad12-b4381aa023dd/su
 nday%20school.jpg
END:VEVENT
END:VCALENDAR
